BEGIN:VCALENDAR
VERSION:2.0
PRODID:-//La Société Elizabeth Fry Society - ECPv5.16.3.1//NONSGML v1.0//EN
CALSCALE:GREGORIAN
METHOD:PUBLISH
X-WR-CALNAME:La Société Elizabeth Fry Society
X-ORIGINAL-URL:https://efryneo.com
X-WR-CALDESC:Events for La Société Elizabeth Fry Society
REFRESH-INTERVAL;VALUE=DURATION:PT1H
X-Robots-Tag:noindex
X-PUBLISHED-TTL:PT1H
BEGIN:VTIMEZONE
TZID:UTC
BEGIN:STANDARD
TZOFFSETFROM:+0000
TZOFFSETTO:+0000
TZNAME:UTC
DTSTART:20200101T000000
END:STANDARD
END:VTIMEZONE
BEGIN:VEVENT
DTSTART;VALUE=DATE:20220917
DTEND;VALUE=DATE:20220919
DTSTAMP:20260423T023347
CREATED:20220804T133652Z
LAST-MODIFIED:20220804T133652Z
UID:1998-1663372800-1663545599@efryneo.com
SUMMARY:Baseball Fundraising Tournament
DESCRIPTION:
URL:https://efryneo.com/event/baseball-fundraising-tournament/
END:VEVENT
BEGIN:VEVENT
DTSTART;VALUE=DATE:20220810
DTEND;VALUE=DATE:20220811
DTSTAMP:20260423T023347
CREATED:20220722T210939Z
LAST-MODIFIED:20220722T210939Z
UID:1934-1660089600-1660175999@efryneo.com
SUMMARY:Prisoner's Justice Day
DESCRIPTION:
URL:https://efryneo.com/event/prisoners-justice-day/
END:VEVENT
BEGIN:VEVENT
DTSTART;VALUE=DATE:20210701
DTEND;VALUE=DATE:20210702
DTSTAMP:20260423T023347
CREATED:20210623T180939Z
LAST-MODIFIED:20210623T180939Z
UID:1805-1625097600-1625183999@efryneo.com
SUMMARY:Canada Day-Office Closed
DESCRIPTION:
URL:https://efryneo.com/event/canada-day-office-closed/
END:VEVENT
BEGIN:VEVENT
DTSTART;VALUE=DATE:20210215
DTEND;VALUE=DATE:20210216
DTSTAMP:20260423T023347
CREATED:20210222T184428Z
LAST-MODIFIED:20210222T184428Z
UID:1748-1613347200-1613433599@efryneo.com
SUMMARY:Family Day-Office Closed
DESCRIPTION:
URL:https://efryneo.com/event/family-day-office-closed/
END:VEVENT
BEGIN:VEVENT
DTSTART;VALUE=DATE:20201229
DTEND;VALUE=DATE:20201230
DTSTAMP:20260423T023347
CREATED:20201202T164624Z
LAST-MODIFIED:20201202T164624Z
UID:1664-1609200000-1609286399@efryneo.com
SUMMARY:Office Closed
DESCRIPTION:
URL:https://efryneo.com/event/office-closed/
END:VEVENT
BEGIN:VEVENT
DTSTART;VALUE=DATE:20201226
DTEND;VALUE=DATE:20201227
DTSTAMP:20260423T023347
CREATED:20201202T164552Z
LAST-MODIFIED:20201202T164552Z
UID:1661-1608940800-1609027199@efryneo.com
SUMMARY:Boxing Day
DESCRIPTION:
URL:https://efryneo.com/event/boxing-day/
END:VEVENT
BEGIN:VEVENT
DTSTART;VALUE=DATE:20201225
DTEND;VALUE=DATE:20201226
DTSTAMP:20260423T023347
CREATED:20201202T164405Z
LAST-MODIFIED:20201202T164439Z
UID:1657-1608854400-1608940799@efryneo.com
SUMMARY:Christmas Day- Office Closed
DESCRIPTION:
URL:https://efryneo.com/event/christmas-day-office-closed/
END:VEVENT
BEGIN:VEVENT
DTSTART;VALUE=DATE:20201224
DTEND;VALUE=DATE:20201225
DTSTAMP:20260423T023347
CREATED:20201202T164705Z
LAST-MODIFIED:20201202T164705Z
UID:1667-1608768000-1608854399@efryneo.com
SUMMARY:Christmas Eve
DESCRIPTION:
URL:https://efryneo.com/event/christmas-eve/
END:VEVENT
BEGIN:VEVENT
DTSTART;TZID=UTC:20201223T120000
DTEND;TZID=UTC:20201223T160000
DTSTAMP:20260423T023347
CREATED:20201202T164248Z
LAST-MODIFIED:20201202T164248Z
UID:1654-1608724800-1608739200@efryneo.com
SUMMARY:Women's Community Drop In Centre
DESCRIPTION:
URL:https://efryneo.com/event/womens-community-drop-in-centre-3/
LOCATION:720 Bruce Avenue\, 720 Bruce Avenue\, Sudbury\, Ontario\, P3C 5C4\, Canada
END:VEVENT
BEGIN:VEVENT
DTSTART;TZID=UTC:20201217T120000
DTEND;TZID=UTC:20201217T160000
DTSTAMP:20260423T023347
CREATED:20201202T163845Z
LAST-MODIFIED:20201202T163915Z
UID:1648-1608206400-1608220800@efryneo.com
SUMMARY:Women's Community Drop In Centre
DESCRIPTION:
URL:https://efryneo.com/event/womens-community-drop-in-centre-2/
LOCATION:720 Bruce Avenue\, 720 Bruce Avenue\, Sudbury\, Ontario\, P3C 5C4\, Canada
END:VEVENT
BEGIN:VEVENT
DTSTART;TZID=UTC:20201216T133000
DTEND;TZID=UTC:20201216T153000
DTSTAMP:20260423T023347
CREATED:20201202T164147Z
LAST-MODIFIED:20201202T164147Z
UID:1651-1608125400-1608132600@efryneo.com
SUMMARY:Open Arts Program
DESCRIPTION:
URL:https://efryneo.com/event/open-arts-program-9/
LOCATION:720 Bruce Avenue\, 720 Bruce Avenue\, Sudbury\, Ontario\, P3C 5C4\, Canada
END:VEVENT
BEGIN:VEVENT
DTSTART;TZID=UTC:20201210T120000
DTEND;TZID=UTC:20201210T160000
DTSTAMP:20260423T023347
CREATED:20201202T163636Z
LAST-MODIFIED:20201202T163724Z
UID:1645-1607601600-1607616000@efryneo.com
SUMMARY:Women's Community Drop in Centre
DESCRIPTION:
URL:https://efryneo.com/event/womens-community-drop-in-centre/
LOCATION:720 Bruce Avenue\, 720 Bruce Avenue\, Sudbury\, Ontario\, P3C 5C4\, Canada
END:VEVENT
BEGIN:VEVENT
DTSTART;TZID=UTC:20201209T133000
DTEND;TZID=UTC:20201209T153000
DTSTAMP:20260423T023347
CREATED:20201202T163504Z
LAST-MODIFIED:20201202T163504Z
UID:1639-1607520600-1607527800@efryneo.com
SUMMARY:Open Arts Program
DESCRIPTION:
URL:https://efryneo.com/event/open-arts-program-8/
LOCATION:Elizabeth Fry Society\, 204 Elm Street\, Sudbury\, ON\, P3C 1V3\, Canada
END:VEVENT
BEGIN:VEVENT
DTSTART;TZID=UTC:20201203T120000
DTEND;TZID=UTC:20201203T160000
DTSTAMP:20260423T023347
CREATED:20201119T162348Z
LAST-MODIFIED:20201119T162711Z
UID:1612-1606996800-1607011200@efryneo.com
SUMMARY:Women's Community Weekly Drop-In
DESCRIPTION:
URL:https://efryneo.com/event/womens-community-weekly-drop-in-9/
LOCATION:720 Bruce Avenue\, 720 Bruce Avenue\, Sudbury\, Ontario\, P3C 5C4\, Canada
END:VEVENT
BEGIN:VEVENT
DTSTART;TZID=UTC:20201202T133000
DTEND;TZID=UTC:20201202T153000
DTSTAMP:20260423T023347
CREATED:20201119T145737Z
LAST-MODIFIED:20201119T145737Z
UID:1586-1606915800-1606923000@efryneo.com
SUMMARY:Open Arts Program
DESCRIPTION:
URL:https://efryneo.com/event/open-arts-program-5/
END:VEVENT
BEGIN:VEVENT
DTSTART;TZID=UTC:20201126T120000
DTEND;TZID=UTC:20201126T160000
DTSTAMP:20260423T023347
CREATED:20201119T154507Z
LAST-MODIFIED:20201119T154507Z
UID:1608-1606392000-1606406400@efryneo.com
SUMMARY:Women's Community Weekly Drop-In
DESCRIPTION:
URL:https://efryneo.com/event/womens-community-weekly-drop-in-8/
LOCATION:720 Bruce Avenue\, 720 Bruce Avenue\, Sudbury\, Ontario\, P3C 5C4\, Canada
END:VEVENT
BEGIN:VEVENT
DTSTART;TZID=UTC:20201125T133000
DTEND;TZID=UTC:20201125T153000
DTSTAMP:20260423T023347
CREATED:20201119T150001Z
LAST-MODIFIED:20201119T150001Z
UID:1589-1606311000-1606318200@efryneo.com
SUMMARY:Open Arts Program
DESCRIPTION:
URL:https://efryneo.com/event/open-arts-program-6/
END:VEVENT
BEGIN:VEVENT
DTSTART;TZID=UTC:20201119T120000
DTEND;TZID=UTC:20201119T160000
DTSTAMP:20260423T023347
CREATED:20201119T150530Z
LAST-MODIFIED:20201119T154347Z
UID:1598-1605787200-1605801600@efryneo.com
SUMMARY:Women's Community Weekly Drop-In
DESCRIPTION:
URL:https://efryneo.com/event/womens-community-weekly-drop-in-5/
LOCATION:720 Bruce Avenue\, 720 Bruce Avenue\, Sudbury\, Ontario\, P3C 5C4\, Canada
END:VEVENT
BEGIN:VEVENT
DTSTART;TZID=UTC:20201118T133000
DTEND;TZID=UTC:20201118T153000
DTSTAMP:20260423T023347
CREATED:20201119T145517Z
LAST-MODIFIED:20201119T145842Z
UID:1583-1605706200-1605713400@efryneo.com
SUMMARY:Open Arts
DESCRIPTION:
URL:https://efryneo.com/event/open-arts/
END:VEVENT
BEGIN:VEVENT
DTSTART;TZID=UTC:20201112T120000
DTEND;TZID=UTC:20201112T160000
DTSTAMP:20260423T023347
CREATED:20201119T150949Z
LAST-MODIFIED:20201119T150949Z
UID:1604-1605182400-1605196800@efryneo.com
SUMMARY:Women's Community Weekly Drop-In
DESCRIPTION:
URL:https://efryneo.com/event/womens-community-weekly-drop-in-7/
END:VEVENT
BEGIN:VEVENT
DTSTART;VALUE=DATE:20201111
DTEND;VALUE=DATE:20201112
DTSTAMP:20260423T023347
CREATED:20201119T150331Z
LAST-MODIFIED:20201119T150331Z
UID:1595-1605052800-1605139199@efryneo.com
SUMMARY:Remembrance Day-Office Closed
DESCRIPTION:
URL:https://efryneo.com/event/remembrance-day-office-closed/
END:VEVENT
BEGIN:VEVENT
DTSTART;TZID=UTC:20201105T120000
DTEND;TZID=UTC:20201105T160000
DTSTAMP:20260423T023347
CREATED:20201119T150848Z
LAST-MODIFIED:20201119T150848Z
UID:1601-1604577600-1604592000@efryneo.com
SUMMARY:Women's Community Weekly Drop-In
DESCRIPTION:
URL:https://efryneo.com/event/womens-community-weekly-drop-in-6/
END:VEVENT
BEGIN:VEVENT
DTSTART;TZID=UTC:20201104T133000
DTEND;TZID=UTC:20201104T153000
DTSTAMP:20260423T023347
CREATED:20201119T150205Z
LAST-MODIFIED:20201119T150205Z
UID:1592-1604496600-1604503800@efryneo.com
SUMMARY:Open Arts  Program
DESCRIPTION:
URL:https://efryneo.com/event/open-arts-program-7/
END:VEVENT
BEGIN:VEVENT
DTSTART;TZID=UTC:20201029T120000
DTEND;TZID=UTC:20201029T160000
DTSTAMP:20260423T023347
CREATED:20201008T182357Z
LAST-MODIFIED:20201008T182357Z
UID:1486-1603972800-1603987200@efryneo.com
SUMMARY:Women's Community Weekly Drop-In
DESCRIPTION:
URL:https://efryneo.com/event/womens-community-weekly-drop-in-4/
END:VEVENT
BEGIN:VEVENT
DTSTART;TZID=UTC:20201028T133000
DTEND;TZID=UTC:20201028T153000
DTSTAMP:20260423T023347
CREATED:20201008T182441Z
LAST-MODIFIED:20201008T182441Z
UID:1488-1603891800-1603899000@efryneo.com
SUMMARY:Open Arts Program
DESCRIPTION:
URL:https://efryneo.com/event/open-arts-program-4/
END:VEVENT
BEGIN:VEVENT
DTSTART;TZID=UTC:20201022T120000
DTEND;TZID=UTC:20201022T160000
DTSTAMP:20260423T023347
CREATED:20201008T182321Z
LAST-MODIFIED:20201008T182321Z
UID:1483-1603368000-1603382400@efryneo.com
SUMMARY:Women's Community Weekly Drop-In
DESCRIPTION:
URL:https://efryneo.com/event/womens-community-weekly-drop-in-3/
END:VEVENT
BEGIN:VEVENT
DTSTART;TZID=UTC:20201021T133000
DTEND;TZID=UTC:20201021T153000
DTSTAMP:20260423T023347
CREATED:20201002T202336Z
LAST-MODIFIED:20201002T202336Z
UID:1454-1603287000-1603294200@efryneo.com
SUMMARY:Open Arts Program
DESCRIPTION:
URL:https://efryneo.com/event/open-arts-program-3/
END:VEVENT
BEGIN:VEVENT
DTSTART;TZID=UTC:20201015T120000
DTEND;TZID=UTC:20201015T160000
DTSTAMP:20260423T023347
CREATED:20201008T182157Z
LAST-MODIFIED:20201008T182157Z
UID:1476-1602763200-1602777600@efryneo.com
SUMMARY:Women's Community Weekly Drop-In
DESCRIPTION:
URL:https://efryneo.com/event/womens-community-weekly-drop-in-2/
LOCATION:720 Bruce Avenue\, Sudbury\, Ontario\, P3C 5C4\, Canada
END:VEVENT
BEGIN:VEVENT
DTSTART;TZID=UTC:20201014T133000
DTEND;TZID=UTC:20201014T153000
DTSTAMP:20260423T023347
CREATED:20201002T201652Z
LAST-MODIFIED:20201002T201652Z
UID:1452-1602682200-1602689400@efryneo.com
SUMMARY:Open Arts Program
DESCRIPTION:
URL:https://efryneo.com/event/open-arts-program-2/
END:VEVENT
BEGIN:VEVENT
DTSTART;VALUE=DATE:20201013
DTEND;VALUE=DATE:20201014
DTSTAMP:20260423T023347
CREATED:20201008T183036Z
LAST-MODIFIED:20201008T183226Z
UID:1494-1602547200-1602633599@efryneo.com
SUMMARY:Thanks giving day
DESCRIPTION:Office is Closed
URL:https://efryneo.com/event/thanks-giving-day-2/
END:VEVENT
END:VCALENDAR